Package: flowWorkspaceData Version: 3.23.0 Command: /home/biocbuild/bbs-3.23-bioc/R/bin/R CMD check --install=check:flowWorkspaceData.install-out.txt --library=/home/biocbuild/bbs-3.23-bioc/R/site-library --timings flowWorkspaceData_3.23.0.tar.gz StartedAt: 2025-11-20 12:31:21 -0500 (Thu, 20 Nov 2025) EndedAt: 2025-11-20 12:31:49 -0500 (Thu, 20 Nov 2025) EllapsedTime: 28.3 seconds RetCode: 0 Status: OK CheckDir: flowWorkspaceData.Rcheck Warnings: 0