Package: flowWorkspaceData Version: 3.21.0 Command: /home/biocbuild/bbs-3.22-bioc/R/bin/R CMD build --keep-empty-dirs --no-resave-data flowWorkspaceData StartedAt: 2025-07-08 11:18:11 -0400 (Tue, 08 Jul 2025) EndedAt: 2025-07-08 11:18:26 -0400 (Tue, 08 Jul 2025) EllapsedTime: 15.0 seconds RetCode: 0 Status: OK PackageFile: flowWorkspaceData_3.21.0.tar.gz PackageFileSize: 71.15 MiB