Package: flowWorkspaceData Version: 3.21.0 Command: /home/biocbuild/bbs-3.22-bioc/R/bin/R CMD check --install=check:flowWorkspaceData.install-out.txt --library=/home/biocbuild/bbs-3.22-bioc/R/site-library --timings flowWorkspaceData_3.21.0.tar.gz StartedAt: 2025-07-10 12:22:06 -0400 (Thu, 10 Jul 2025) EndedAt: 2025-07-10 12:22:23 -0400 (Thu, 10 Jul 2025) EllapsedTime: 17.0 seconds RetCode: 0 Status: OK CheckDir: flowWorkspaceData.Rcheck Warnings: 0