Package: flowWorkspaceData Version: 3.21.0 Command: /home/biocbuild/bbs-3.22-bioc/R/bin/R CMD INSTALL flowWorkspaceData StartedAt: 2025-07-08 10:55:34 -0400 (Tue, 08 Jul 2025) EndedAt: 2025-07-08 10:55:43 -0400 (Tue, 08 Jul 2025) EllapsedTime: 8.8 seconds RetCode: 0 Status: OK