Package: fourDNData Version: 1.11.0 Command: /home/biocbuild/bbs-3.23-bioc/R/bin/R CMD build --keep-empty-dirs --no-resave-data fourDNData StartedAt: 2025-11-06 11:18:49 -0500 (Thu, 06 Nov 2025) EndedAt: 2025-11-06 11:19:23 -0500 (Thu, 06 Nov 2025) EllapsedTime: 33.7 seconds RetCode: 0 Status: OK PackageFile: fourDNData_1.11.0.tar.gz PackageFileSize: 493.7 KiB