Package: fourDNData Version: 1.11.0 Command: /home/biocbuild/bbs-3.23-bioc/R/bin/R CMD INSTALL fourDNData StartedAt: 2025-11-06 10:58:56 -0500 (Thu, 06 Nov 2025) EndedAt: 2025-11-06 10:59:06 -0500 (Thu, 06 Nov 2025) EllapsedTime: 10.7 seconds RetCode: 0 Status: OK