Package: fourDNData Version: 1.9.0 Command: /home/biocbuild/bbs-3.22-bioc/R/bin/R CMD INSTALL fourDNData StartedAt: 2025-07-08 10:58:59 -0400 (Tue, 08 Jul 2025) EndedAt: 2025-07-08 10:59:10 -0400 (Tue, 08 Jul 2025) EllapsedTime: 10.6 seconds RetCode: 0 Status: OK