Package: frmaExampleData Version: 1.45.0 Maintainer: Matthew N. McCall MaintainerEmail: mmccall at jhsph.edu git_url: https://git.bioconductor.org/packages/frmaExampleData git_branch: devel git_last_commit: badda48 git_last_commit_date: 2025-04-15 09:16:44 -0400 (Tue, 15 Apr 2025)