Package: frmaExampleData Version: 1.47.0 Command: /home/biocbuild/bbs-3.23-bioc/R/bin/R CMD INSTALL frmaExampleData StartedAt: 2025-10-30 10:55:36 -0400 (Thu, 30 Oct 2025) EndedAt: 2025-10-30 10:55:40 -0400 (Thu, 30 Oct 2025) EllapsedTime: 3.9 seconds RetCode: 0 Status: OK