Package: frmaExampleData Version: 1.45.0 Command: /home/biocbuild/bbs-3.22-bioc/R/bin/R CMD build --keep-empty-dirs --no-resave-data frmaExampleData StartedAt: 2025-07-08 11:18:48 -0400 (Tue, 08 Jul 2025) EndedAt: 2025-07-08 11:18:52 -0400 (Tue, 08 Jul 2025) EllapsedTime: 4.0 seconds RetCode: 0 Status: OK PackageFile: frmaExampleData_1.45.0.tar.gz PackageFileSize: 15.88 MiB