Package: frmaExampleData Version: 1.45.0 Command: /home/biocbuild/bbs-3.22-bioc/R/bin/R CMD check --install=check:frmaExampleData.install-out.txt --library=/home/biocbuild/bbs-3.22-bioc/R/site-library --timings frmaExampleData_1.45.0.tar.gz StartedAt: 2025-07-15 12:21:01 -0400 (Tue, 15 Jul 2025) EndedAt: 2025-07-15 12:22:52 -0400 (Tue, 15 Jul 2025) EllapsedTime: 111.7 seconds RetCode: 0 Status: WARNINGS CheckDir: frmaExampleData.Rcheck Warnings: 2