Package: furrowSeg Version: 1.37.0 Command: /home/biocbuild/bbs-3.22-bioc/R/bin/R CMD INSTALL furrowSeg StartedAt: 2025-07-10 10:57:39 -0400 (Thu, 10 Jul 2025) EndedAt: 2025-07-10 10:57:45 -0400 (Thu, 10 Jul 2025) EllapsedTime: 5.8 seconds RetCode: 0 Status: OK