Package: gDNAinRNAseqData Version: 1.9.0 Command: /home/biocbuild/bbs-3.22-bioc/R/bin/R CMD build --keep-empty-dirs --no-resave-data gDNAinRNAseqData StartedAt: 2025-07-08 11:19:00 -0400 (Tue, 08 Jul 2025) EndedAt: 2025-07-08 11:19:43 -0400 (Tue, 08 Jul 2025) EllapsedTime: 42.3 seconds RetCode: 0 Status: OK PackageFile: gDNAinRNAseqData_1.9.0.tar.gz PackageFileSize: 296.1 KiB