Package: gDNAinRNAseqData Version: 1.9.0 Command: /home/biocbuild/bbs-3.22-bioc/R/bin/R CMD INSTALL gDNAinRNAseqData StartedAt: 2025-07-08 11:03:13 -0400 (Tue, 08 Jul 2025) EndedAt: 2025-07-08 11:03:30 -0400 (Tue, 08 Jul 2025) EllapsedTime: 16.9 seconds RetCode: 0 Status: OK