Package: gDRtestData Version: 1.9.1 Command: /home/biocbuild/bbs-3.23-bioc/R/bin/R CMD INSTALL gDRtestData StartedAt: 2025-11-04 10:56:03 -0500 (Tue, 04 Nov 2025) EndedAt: 2025-11-04 10:56:06 -0500 (Tue, 04 Nov 2025) EllapsedTime: 2.8 seconds RetCode: 0 Status: OK