Package: gDRtestData Version: 1.7.1 Command: /home/biocbuild/bbs-3.22-bioc/R/bin/R CMD build --keep-empty-dirs --no-resave-data gDRtestData StartedAt: 2025-07-08 11:19:01 -0400 (Tue, 08 Jul 2025) EndedAt: 2025-07-08 11:19:07 -0400 (Tue, 08 Jul 2025) EllapsedTime: 6.0 seconds RetCode: 0 Status: OK PackageFile: gDRtestData_1.7.1.tar.gz PackageFileSize: 8.396 MiB