Package: gDRtestData Version: 1.7.1 Command: /home/biocbuild/bbs-3.22-bioc/R/bin/R CMD INSTALL gDRtestData StartedAt: 2025-07-08 10:56:03 -0400 (Tue, 08 Jul 2025) EndedAt: 2025-07-08 10:56:06 -0400 (Tue, 08 Jul 2025) EllapsedTime: 3.0 seconds RetCode: 0 Status: OK