Package: gageData Version: 2.47.0 Command: /home/biocbuild/bbs-3.22-bioc/R/bin/R CMD INSTALL gageData StartedAt: 2025-07-10 10:55:21 -0400 (Thu, 10 Jul 2025) EndedAt: 2025-07-10 10:55:27 -0400 (Thu, 10 Jul 2025) EllapsedTime: 5.3 seconds RetCode: 0 Status: OK