Package: geneLenDataBase Version: 1.47.0 Command: /home/biocbuild/bbs-3.23-bioc/R/bin/R CMD INSTALL geneLenDataBase StartedAt: 2025-10-30 11:01:22 -0400 (Thu, 30 Oct 2025) EndedAt: 2025-10-30 11:02:38 -0400 (Thu, 30 Oct 2025) EllapsedTime: 76.6 seconds RetCode: 0 Status: OK