Package: geneLenDataBase Version: 1.45.0 Command: /home/biocbuild/bbs-3.22-bioc/R/bin/R CMD build --keep-empty-dirs --no-resave-data geneLenDataBase StartedAt: 2025-07-08 11:19:07 -0400 (Tue, 08 Jul 2025) EndedAt: 2025-07-08 11:20:01 -0400 (Tue, 08 Jul 2025) EllapsedTime: 53.5 seconds RetCode: 0 Status: OK PackageFile: geneLenDataBase_1.45.0.tar.gz PackageFileSize: 95.79 MiB