Package: geneLenDataBase Version: 1.45.0 Command: /home/biocbuild/bbs-3.22-bioc/R/bin/R CMD check --install=check:geneLenDataBase.install-out.txt --library=/home/biocbuild/bbs-3.22-bioc/R/site-library --timings geneLenDataBase_1.45.0.tar.gz StartedAt: 2025-07-15 12:22:28 -0400 (Tue, 15 Jul 2025) EndedAt: 2025-07-15 12:31:58 -0400 (Tue, 15 Jul 2025) EllapsedTime: 570.1 seconds RetCode: 0 Status: OK CheckDir: geneLenDataBase.Rcheck Warnings: 0