Package: geneLenDataBase Version: 1.45.0 Command: /home/biocbuild/bbs-3.22-bioc/R/bin/R CMD INSTALL geneLenDataBase StartedAt: 2025-07-08 11:01:13 -0400 (Tue, 08 Jul 2025) EndedAt: 2025-07-08 11:02:28 -0400 (Tue, 08 Jul 2025) EllapsedTime: 75.3 seconds RetCode: 0 Status: OK