Package: genomationData Version: 1.43.0 Command: /home/biocbuild/bbs-3.23-bioc/R/bin/R CMD INSTALL genomationData StartedAt: 2025-10-30 10:56:02 -0400 (Thu, 30 Oct 2025) EndedAt: 2025-10-30 10:56:05 -0400 (Thu, 30 Oct 2025) EllapsedTime: 2.5 seconds RetCode: 0 Status: OK