Package: genomationData Version: 1.41.0 Command: /home/biocbuild/bbs-3.22-bioc/R/bin/R CMD build --keep-empty-dirs --no-resave-data genomationData StartedAt: 2025-07-08 11:19:09 -0400 (Tue, 08 Jul 2025) EndedAt: 2025-07-08 11:19:18 -0400 (Tue, 08 Jul 2025) EllapsedTime: 8.4 seconds RetCode: 0 Status: OK PackageFile: genomationData_1.41.0.tar.gz PackageFileSize: 66.49 MiB