Package: genomationData Version: 1.41.0 Command: /home/biocbuild/bbs-3.22-bioc/R/bin/R CMD INSTALL genomationData StartedAt: 2025-07-08 10:55:56 -0400 (Tue, 08 Jul 2025) EndedAt: 2025-07-08 10:55:57 -0400 (Tue, 08 Jul 2025) EllapsedTime: 1.2 seconds RetCode: 0 Status: OK