Package: golubEsets Version: 1.51.0 Command: /home/biocbuild/bbs-3.22-bioc/R/bin/R CMD build --keep-empty-dirs --no-resave-data golubEsets StartedAt: 2025-07-15 11:19:52 -0400 (Tue, 15 Jul 2025) EndedAt: 2025-07-15 11:19:54 -0400 (Tue, 15 Jul 2025) EllapsedTime: 2.0 seconds RetCode: 0 Status: OK PackageFile: golubEsets_1.51.0.tar.gz PackageFileSize: 4.302 MiB