Package: golubEsets Version: 1.51.0 Command: /home/biocbuild/bbs-3.22-bioc/R/bin/R CMD INSTALL golubEsets StartedAt: 2025-07-15 10:56:04 -0400 (Tue, 15 Jul 2025) EndedAt: 2025-07-15 10:56:06 -0400 (Tue, 15 Jul 2025) EllapsedTime: 2.7 seconds RetCode: 0 Status: OK