Package: gpaExample Version: 1.21.0 Command: /home/biocbuild/bbs-3.22-bioc/R/bin/R CMD build --keep-empty-dirs --no-resave-data gpaExample StartedAt: 2025-07-08 11:19:40 -0400 (Tue, 08 Jul 2025) EndedAt: 2025-07-08 11:19:42 -0400 (Tue, 08 Jul 2025) EllapsedTime: 2.0 seconds RetCode: 0 Status: OK PackageFile: gpaExample_1.21.0.tar.gz PackageFileSize: 11.52 MiB