Package: gpaExample Version: 1.21.0 Command: /home/biocbuild/bbs-3.22-bioc/R/bin/R CMD INSTALL gpaExample StartedAt: 2025-07-08 10:55:55 -0400 (Tue, 08 Jul 2025) EndedAt: 2025-07-08 10:55:56 -0400 (Tue, 08 Jul 2025) EllapsedTime: 1.4 seconds RetCode: 0 Status: OK