Package: grndata Version: 1.41.0 Command: /home/biocbuild/bbs-3.22-bioc/R/bin/R CMD build --keep-empty-dirs --no-resave-data grndata StartedAt: 2025-07-08 11:19:43 -0400 (Tue, 08 Jul 2025) EndedAt: 2025-07-08 11:19:55 -0400 (Tue, 08 Jul 2025) EllapsedTime: 12.2 seconds RetCode: 0 Status: OK PackageFile: grndata_1.41.0.tar.gz PackageFileSize: 30.15 MiB