Package: grndata Version: 1.41.0 Command: /home/biocbuild/bbs-3.22-bioc/R/bin/R CMD INSTALL grndata StartedAt: 2025-07-08 10:55:38 -0400 (Tue, 08 Jul 2025) EndedAt: 2025-07-08 10:55:49 -0400 (Tue, 08 Jul 2025) EllapsedTime: 10.8 seconds RetCode: 0 Status: OK