Package: h5vcData Version: 2.31.0 Command: /home/biocbuild/bbs-3.23-bioc/R/bin/R CMD build --keep-empty-dirs --no-resave-data h5vcData StartedAt: 2025-10-30 11:18:36 -0400 (Thu, 30 Oct 2025) EndedAt: 2025-10-30 11:18:39 -0400 (Thu, 30 Oct 2025) EllapsedTime: 3.3 seconds RetCode: 0 Status: OK PackageFile: h5vcData_2.31.0.tar.gz PackageFileSize: 24.83 MiB