Package: h5vcData Version: 2.31.0 Command: /home/biocbuild/bbs-3.23-bioc/R/bin/R CMD INSTALL h5vcData StartedAt: 2025-10-30 10:55:31 -0400 (Thu, 30 Oct 2025) EndedAt: 2025-10-30 10:55:33 -0400 (Thu, 30 Oct 2025) EllapsedTime: 2.2 seconds RetCode: 0 Status: OK