Package: h5vcData Version: 2.29.0 Command: /home/biocbuild/bbs-3.22-bioc/R/bin/R CMD build --keep-empty-dirs --no-resave-data h5vcData StartedAt: 2025-07-08 11:20:04 -0400 (Tue, 08 Jul 2025) EndedAt: 2025-07-08 11:20:07 -0400 (Tue, 08 Jul 2025) EllapsedTime: 2.6 seconds RetCode: 0 Status: OK PackageFile: h5vcData_2.29.0.tar.gz PackageFileSize: 24.83 MiB