Package: hapmap100khind Version: 1.51.0 Command: /home/biocbuild/bbs-3.22-bioc/R/bin/R CMD build --keep-empty-dirs --no-resave-data hapmap100khind StartedAt: 2025-07-08 11:20:06 -0400 (Tue, 08 Jul 2025) EndedAt: 2025-07-08 11:21:03 -0400 (Tue, 08 Jul 2025) EllapsedTime: 57.8 seconds RetCode: 0 Status: OK PackageFile: hapmap100khind_1.51.0.tar.gz PackageFileSize: 38.05 MiB