Package: hapmap100khind Version: 1.51.0 Command: /home/biocbuild/bbs-3.22-bioc/R/bin/R CMD INSTALL hapmap100khind StartedAt: 2025-07-08 10:55:46 -0400 (Tue, 08 Jul 2025) EndedAt: 2025-07-08 10:55:50 -0400 (Tue, 08 Jul 2025) EllapsedTime: 4.2 seconds RetCode: 0 Status: OK