Package: hapmap100kxba Version: 1.53.0 Command: /home/biocbuild/bbs-3.23-bioc/R/bin/R CMD INSTALL hapmap100kxba StartedAt: 2025-11-04 10:55:35 -0500 (Tue, 04 Nov 2025) EndedAt: 2025-11-04 10:55:37 -0500 (Tue, 04 Nov 2025) EllapsedTime: 1.7 seconds RetCode: 0 Status: OK