Package: hapmap100kxba Version: 1.51.0 Command: /home/biocbuild/bbs-3.22-bioc/R/bin/R CMD INSTALL hapmap100kxba StartedAt: 2025-07-08 10:55:31 -0400 (Tue, 08 Jul 2025) EndedAt: 2025-07-08 10:55:33 -0400 (Tue, 08 Jul 2025) EllapsedTime: 2.1 seconds RetCode: 0 Status: OK