Package: hapmap500knsp Version: 1.53.0 Command: /home/biocbuild/bbs-3.23-bioc/R/bin/R CMD build --keep-empty-dirs --no-resave-data hapmap500knsp StartedAt: 2025-11-04 11:22:05 -0500 (Tue, 04 Nov 2025) EndedAt: 2025-11-04 11:24:46 -0500 (Tue, 04 Nov 2025) EllapsedTime: 160.8 seconds RetCode: 0 Status: OK PackageFile: hapmap500knsp_1.53.0.tar.gz PackageFileSize: 80.39 MiB