Package: hapmap500knsp Version: 1.51.0 Command: /home/biocbuild/bbs-3.22-bioc/R/bin/R CMD INSTALL hapmap500knsp StartedAt: 2025-07-08 10:55:33 -0400 (Tue, 08 Jul 2025) EndedAt: 2025-07-08 10:55:48 -0400 (Tue, 08 Jul 2025) EllapsedTime: 14.7 seconds RetCode: 0 Status: OK