Package: hapmap500ksty Version: 1.51.0 Command: /home/biocbuild/bbs-3.22-bioc/R/bin/R CMD INSTALL hapmap500ksty StartedAt: 2025-07-08 10:55:30 -0400 (Tue, 08 Jul 2025) EndedAt: 2025-07-08 10:55:33 -0400 (Tue, 08 Jul 2025) EllapsedTime: 3.0 seconds RetCode: 0 Status: OK