Package: hapmapsnp6 Version: 1.53.0 Command: /home/biocbuild/bbs-3.23-bioc/R/bin/R CMD INSTALL hapmapsnp6 StartedAt: 2025-11-04 10:55:26 -0500 (Tue, 04 Nov 2025) EndedAt: 2025-11-04 10:55:49 -0500 (Tue, 04 Nov 2025) EllapsedTime: 23.7 seconds RetCode: 0 Status: OK