Package: harbChIP Version: 1.49.0 Command: /home/biocbuild/bbs-3.23-bioc/R/bin/R CMD build --keep-empty-dirs --no-resave-data harbChIP StartedAt: 2025-11-04 11:22:18 -0500 (Tue, 04 Nov 2025) EndedAt: 2025-11-04 11:22:41 -0500 (Tue, 04 Nov 2025) EllapsedTime: 23.0 seconds RetCode: 0 Status: OK PackageFile: harbChIP_1.49.0.tar.gz PackageFileSize: 7.204 MiB