Package: healthyControlsPresenceChecker Version: 1.15.0 Command: /home/biocbuild/bbs-3.23-bioc/R/bin/R CMD INSTALL healthyControlsPresenceChecker StartedAt: 2025-11-04 11:01:29 -0500 (Tue, 04 Nov 2025) EndedAt: 2025-11-04 11:01:50 -0500 (Tue, 04 Nov 2025) EllapsedTime: 21.6 seconds RetCode: 0 Status: OK