Package: healthyControlsPresenceChecker Version: 1.13.0 Command: /home/biocbuild/bbs-3.22-bioc/R/bin/R CMD build --keep-empty-dirs --no-resave-data healthyControlsPresenceChecker StartedAt: 2025-07-08 11:22:42 -0400 (Tue, 08 Jul 2025) EndedAt: 2025-07-08 11:23:16 -0400 (Tue, 08 Jul 2025) EllapsedTime: 34.6 seconds RetCode: 0 Status: OK PackageFile: healthyControlsPresenceChecker_1.13.0.tar.gz PackageFileSize: 219.9 KiB