Package: healthyControlsPresenceChecker Version: 1.13.0 Command: /home/biocbuild/bbs-3.22-bioc/R/bin/R CMD INSTALL healthyControlsPresenceChecker StartedAt: 2025-07-08 11:01:17 -0400 (Tue, 08 Jul 2025) EndedAt: 2025-07-08 11:01:39 -0400 (Tue, 08 Jul 2025) EllapsedTime: 21.9 seconds RetCode: 0 Status: OK