Package: healthyFlowData Version: 1.47.0 Command: /home/biocbuild/bbs-3.22-bioc/R/bin/R CMD INSTALL healthyFlowData StartedAt: 2025-07-08 10:56:44 -0400 (Tue, 08 Jul 2025) EndedAt: 2025-07-08 10:56:48 -0400 (Tue, 08 Jul 2025) EllapsedTime: 4.1 seconds RetCode: 0 Status: OK