Package: hgu133abarcodevecs Version: 1.47.0 Command: /home/biocbuild/bbs-3.22-bioc/R/bin/R CMD build --keep-empty-dirs --no-resave-data hgu133abarcodevecs StartedAt: 2025-07-17 11:22:57 -0400 (Thu, 17 Jul 2025) EndedAt: 2025-07-17 11:22:58 -0400 (Thu, 17 Jul 2025) EllapsedTime: 1.0 seconds RetCode: 0 Status: OK PackageFile: hgu133abarcodevecs_1.47.0.tar.gz PackageFileSize: 500.8 KiB