Package: hgu133abarcodevecs Version: 1.47.0 Command: /home/biocbuild/bbs-3.22-bioc/R/bin/R CMD INSTALL hgu133abarcodevecs StartedAt: 2025-07-17 10:55:22 -0400 (Thu, 17 Jul 2025) EndedAt: 2025-07-17 10:55:24 -0400 (Thu, 17 Jul 2025) EllapsedTime: 1.8 seconds RetCode: 0 Status: OK