Package: hgu133plus2CellScore Version: 1.29.0 Command: /home/biocbuild/bbs-3.22-bioc/R/bin/R CMD check --install=check:hgu133plus2CellScore.install-out.txt --library=/home/biocbuild/bbs-3.22-bioc/R/site-library --timings hgu133plus2CellScore_1.29.0.tar.gz StartedAt: 2025-07-15 12:26:32 -0400 (Tue, 15 Jul 2025) EndedAt: 2025-07-15 12:27:11 -0400 (Tue, 15 Jul 2025) EllapsedTime: 38.3 seconds RetCode: 0 Status: WARNINGS CheckDir: hgu133plus2CellScore.Rcheck Warnings: 1